BEGIN:VCALENDAR
VERSION:2.0
PRODID:-//Cherokee Rose - ECPv6.15.18//NONSGML v1.0//EN
CALSCALE:GREGORIAN
METHOD:PUBLISH
X-WR-CALNAME:Cherokee Rose
X-ORIGINAL-URL:https://crclays.com
X-WR-CALDESC:Events for Cherokee Rose
REFRESH-INTERVAL;VALUE=DURATION:PT1H
X-Robots-Tag:noindex
X-PUBLISHED-TTL:PT1H
BEGIN:VTIMEZONE
TZID:America/New_York
BEGIN:DAYLIGHT
TZOFFSETFROM:-0500
TZOFFSETTO:-0400
TZNAME:EDT
DTSTART:20220313T070000
END:DAYLIGHT
BEGIN:STANDARD
TZOFFSETFROM:-0400
TZOFFSETTO:-0500
TZNAME:EST
DTSTART:20221106T060000
END:STANDARD
BEGIN:DAYLIGHT
TZOFFSETFROM:-0500
TZOFFSETTO:-0400
TZNAME:EDT
DTSTART:20230312T070000
END:DAYLIGHT
BEGIN:STANDARD
TZOFFSETFROM:-0400
TZOFFSETTO:-0500
TZNAME:EST
DTSTART:20231105T060000
END:STANDARD
BEGIN:DAYLIGHT
TZOFFSETFROM:-0500
TZOFFSETTO:-0400
TZNAME:EDT
DTSTART:20240310T070000
END:DAYLIGHT
BEGIN:STANDARD
TZOFFSETFROM:-0400
TZOFFSETTO:-0500
TZNAME:EST
DTSTART:20241103T060000
END:STANDARD
END:VTIMEZONE
BEGIN:VEVENT
DTSTART;VALUE=DATE:20231230
DTEND;VALUE=DATE:20231231
DTSTAMP:20260419T142250
CREATED:20230817T151549Z
LAST-MODIFIED:20240430T201746Z
UID:2989-1703894400-1703980799@crclays.com
SUMMARY:Last Pair NSCA Tournament. Dec 30\, 2023
DESCRIPTION:
URL:https://crclays.com/calendar/last-pair-nsca-tournament/
LOCATION:Cherokee Rose\, 895 Baptist Camp Rd.\, Griffin\, GA\, 30223\, United States
ORGANIZER;CN="Cherokee Rose":MAILTO:info@crclays.com
END:VEVENT
BEGIN:VEVENT
DTSTART;TZID=America/New_York:20231230T090000
DTEND;TZID=America/New_York:20231230T140000
DTSTAMP:20260419T142250
CREATED:20230817T151641Z
LAST-MODIFIED:20240612T181112Z
UID:2991-1703926800-1703944800@crclays.com
SUMMARY:Both courses closed until 2 pm. December 30\, 2024.
DESCRIPTION:
URL:https://crclays.com/calendar/both-courses-closed-until-2-pm-3/
LOCATION:Cherokee Rose\, 895 Baptist Camp Rd.\, Griffin\, GA\, 30223\, United States
ORGANIZER;CN="Cherokee Rose":MAILTO:info@crclays.com
END:VEVENT
END:VCALENDAR