BEGIN:VCALENDAR
VERSION:2.0
PRODID:-//Cherokee Rose - ECPv6.15.18//NONSGML v1.0//EN
CALSCALE:GREGORIAN
METHOD:PUBLISH
X-ORIGINAL-URL:https://crclays.com
X-WR-CALDESC:Events for Cherokee Rose
REFRESH-INTERVAL;VALUE=DURATION:PT1H
X-Robots-Tag:noindex
X-PUBLISHED-TTL:PT1H
BEGIN:VTIMEZONE
TZID:America/New_York
BEGIN:DAYLIGHT
TZOFFSETFROM:-0500
TZOFFSETTO:-0400
TZNAME:EDT
DTSTART:20210314T070000
END:DAYLIGHT
BEGIN:STANDARD
TZOFFSETFROM:-0400
TZOFFSETTO:-0500
TZNAME:EST
DTSTART:20211107T060000
END:STANDARD
BEGIN:DAYLIGHT
TZOFFSETFROM:-0500
TZOFFSETTO:-0400
TZNAME:EDT
DTSTART:20220313T070000
END:DAYLIGHT
BEGIN:STANDARD
TZOFFSETFROM:-0400
TZOFFSETTO:-0500
TZNAME:EST
DTSTART:20221106T060000
END:STANDARD
BEGIN:DAYLIGHT
TZOFFSETFROM:-0500
TZOFFSETTO:-0400
TZNAME:EDT
DTSTART:20230312T070000
END:DAYLIGHT
BEGIN:STANDARD
TZOFFSETFROM:-0400
TZOFFSETTO:-0500
TZNAME:EST
DTSTART:20231105T060000
END:STANDARD
END:VTIMEZONE
BEGIN:VEVENT
DTSTART;VALUE=DATE:20220721
DTEND;VALUE=DATE:20220725
DTSTAMP:20260425T230202
CREATED:20220425T162032Z
LAST-MODIFIED:20220425T162032Z
UID:1966-1658361600-1658707199@crclays.com
SUMMARY:Georgia State FITASC Championship
DESCRIPTION:REGISTRATION & SQUADDING\nEmail barb@scorechaser.com with questions regarding registration or squadding. \nDEPOSITS\nDeposits will not be refunded due to cancellation after June 20\, 2022. \nFITASC GRAND CHAMPION\nShoot all three FITASC events and you’re automatically eligible to win the FITASC Grand Champion Payout.\nHOA: $1200 + Trophy\nRU: $600 + Trophy\nLady: $300 + Trophy \nFLEXI FITASC\nCarefully select your FITASC rotation. This shoot offers FLEXI FITASC to allow for more available spaces.\nRotation 1: 100 Thu 8:30\, 100 Fri 11:30\nRotation 2: 100 Thu 11:30\, 100 Fri 2:30\nRotation 3: 50 Thu 2:30\, 50 Fri 8:30\, 50 Sat 11:30\, 50 Sun 2:30\nRotation 4: 50 Thu 4:00\, 50 Fri 10:00\, 50 Sat 1:00\, 50 Sun 4:00\nRotation 5: 100 Sat 8:30\, 100 Sun 11:30\nRotation 6: 100 Sat 2:30\, 100 Sun 8:30
URL:https://crclays.com/calendar/georgia-state-fitasc-championship/
LOCATION:GA
END:VEVENT
END:VCALENDAR